BEGIN:VCALENDAR
VERSION:2.0
PRODID:-//Sports Laval - ECPv6.6.0.2//NONSGML v1.0//EN
CALSCALE:GREGORIAN
METHOD:PUBLISH
X-ORIGINAL-URL:https://sportslaval.qc.ca
X-WR-CALDESC:évènements pour Sports Laval
REFRESH-INTERVAL;VALUE=DURATION:PT1H
X-Robots-Tag:noindex
X-PUBLISHED-TTL:PT1H
BEGIN:VTIMEZONE
TZID:UTC
BEGIN:STANDARD
TZOFFSETFROM:+0000
TZOFFSETTO:+0000
TZNAME:UTC
DTSTART:20250101T000000
END:STANDARD
END:VTIMEZONE
BEGIN:VEVENT
DTSTART;TZID=UTC:20251024T090000
DTEND;TZID=UTC:20251024T160000
DTSTAMP:20260423T100724
CREATED:20250814T204359Z
LAST-MODIFIED:20250814T204359Z
UID:16022-1761296400-1761321600@sportslaval.qc.ca
SUMMARY:Formation ex3 - Initiation à la course d'orientation
DESCRIPTION:
URL:https://sportslaval.qc.ca/event/formation-ex3-initiation-a-la-course-dorientation/
END:VEVENT
END:VCALENDAR